BEGIN:VCALENDAR
VERSION:2.0
CALSCALE:GREGORIAN
PRODID:adamgibbons/ics
METHOD:PUBLISH
X-PUBLISHED-TTL:PT1H
BEGIN:VEVENT
UID:19714@offbeat.amsterdam
SUMMARY:LE TROU W/ ROZALY (ALL NIGHT)\, SÈSÈ\, T.NO\, CHALÉ & TIDA KAMARA (
	ALL NIGHT)
DTSTAMP:20260420T050901Z
DTSTART:20260424T200000Z
DTEND:20260425T010000Z
URL:https://offbeat.amsterdam/event/le-trou
LOCATION:Skatecafe Karin & Yvonne - Gedempt Hamerkanaal 42\, 1021 KM Amster
	dam
STATUS:CONFIRMED
CATEGORIES:talk,afro,amsterdam-noord,community,dinner,electronics,funk,hame
	rkwartier,live,music
END:VEVENT
BEGIN:VEVENT
UID:20417@offbeat.amsterdam
SUMMARY:LENTEKABINET X SKATECAFE PRESENTS: LENTEKABINET BAND CONTEST
DTSTAMP:20260420T050901Z
DTSTART:20260425T160000Z
DTEND:20260425T230000Z
URL:https://offbeat.amsterdam/event/lentekabinet-x-skatecafe-presents-lente
	kabinet-band-contest-1
LOCATION:Skatecafe Karin & Yvonne - Gedempt Hamerkanaal 42\, 1021 KM Amster
	dam
STATUS:CONFIRMED
CATEGORIES:amsterdam-noord,hamerkwartier,live,music
END:VEVENT
BEGIN:VEVENT
UID:19334@offbeat.amsterdam
SUMMARY:HET GROTE SKATECAFE GRATIS ENTREE FEEST: VINK & VET\, UIRA\, BIEBER
	CHELLA B2B LUA DIPA
DTSTAMP:20260420T050901Z
DTSTART:20260425T160000Z
DTEND:20260426T010000Z
URL:https://offbeat.amsterdam/event/het-grote-skatecafe-gratis-entree-feest
LOCATION:Skatecafe Karin & Yvonne - Gedempt Hamerkanaal 42\, 1021 KM Amster
	dam
STATUS:CONFIRMED
CATEGORIES:amsterdam-noord,hamerkwartier
END:VEVENT
BEGIN:VEVENT
UID:19340@offbeat.amsterdam
SUMMARY:TOURIST TRAP KINGSNIGHT W/ AAD B2B DAA\, EUROPEAN VAMPIRE (LIVE) (F
	R)\, LIPSTAINS (LIVE) (IT)\, NAINA\, NOT A FAN & BONNE REIJN\, PROJECT X (
	LIVE)\, SLIMFIT B2B HOMMYBIRD\, TOMMIE J B2B JAMES BF & 2 GIRLS 1 CLUB
DTSTAMP:20260420T050901Z
DTSTART:20260426T200000Z
DTEND:20260427T010000Z
URL:https://offbeat.amsterdam/event/tourist-trap-kingsnight
LOCATION:Skatecafe Karin & Yvonne - Gedempt Hamerkanaal 42\, 1021 KM Amster
	dam
STATUS:CONFIRMED
CATEGORIES:punk,amsterdam-noord,dance,electroclash,hamerkwartier,live
END:VEVENT
BEGIN:VEVENT
UID:20636@offbeat.amsterdam
SUMMARY:BAR BLITZZA XL: CHESS TOURNAMENT
DTSTAMP:20260420T050901Z
DTSTART:20260430T160000Z
DTEND:20260430T230000Z
URL:https://offbeat.amsterdam/event/bar-blitzza-xl-chess-tournament
LOCATION:Skatecafe Karin & Yvonne - Gedempt Hamerkanaal 42\, 1021 KM Amster
	dam
STATUS:CONFIRMED
CATEGORIES:amsterdam-noord,hamerkwartier
END:VEVENT
BEGIN:VEVENT
UID:20307@offbeat.amsterdam
SUMMARY:FLAIRE & FRIENDS (LIVE)\, FISH TAPES\, SIM FANE\, MEREL HELDERMAN\,
	 MATHIÉUX\, YVES ANTONIO\, DE HET BOAZ\, PARADOX SOUNDSYSTEM\, MALLIE\, PA
	UPTIT
DTSTAMP:20260420T050901Z
DTSTART:20260501T200000Z
DTEND:20260502T010000Z
URL:https://offbeat.amsterdam/event/flaire-and-friends-live-fish-tapes-sim-
	fane-merel-helderman-mathieux-yves-antonio-de-het-boaz-paradox-soundsystem
	-mallie-pauptit
LOCATION:Skatecafe Karin & Yvonne - Gedempt Hamerkanaal 42\, 1021 KM Amster
	dam
STATUS:CONFIRMED
CATEGORIES:festivals,hamerkwartier,live,amsterdam-noord
END:VEVENT
BEGIN:VEVENT
UID:19715@offbeat.amsterdam
SUMMARY:NO RESERVATION W/  LADY SHAKA\, AGNESKENA\, BARROSKINI\, D.OUD\, FO
	LAKE\, FOS\, OOAK\, RRIDDIM & TIZI
DTSTAMP:20260420T050901Z
DTSTART:20260502T200000Z
DTEND:20260503T010000Z
URL:https://offbeat.amsterdam/event/no-reservation
LOCATION:Skatecafe Karin & Yvonne - Gedempt Hamerkanaal 42\, 1021 KM Amster
	dam
STATUS:CONFIRMED
CATEGORIES:music,food,dj,dance,amsterdam-noord,hamerkwartier
END:VEVENT
BEGIN:VEVENT
UID:20680@offbeat.amsterdam
SUMMARY:SUPER SONIC JAM
DTSTAMP:20260420T050901Z
DTSTART:20260507T180000Z
DTEND:20260507T230000Z
URL:https://offbeat.amsterdam/event/super-sonic-jam
LOCATION:Skatecafe Karin & Yvonne - Gedempt Hamerkanaal 42\, 1021 KM Amster
	dam
STATUS:CONFIRMED
CATEGORIES:amsterdam-noord,hamerkwartier
END:VEVENT
BEGIN:VEVENT
UID:16864@offbeat.amsterdam
SUMMARY:WODAN BOYS - GOD SPEED A GO GO TOUR SUPPORTED BY: FIT\, PLONKI&FUZZ
	Y TEETH
DTSTAMP:20260420T050901Z
DTSTART:20260508T180000Z
DTEND:20260508T200000Z
URL:https://offbeat.amsterdam/event/wodan-boys-god-speed-a-go-go-tour-suppo
	rted-by-fit
LOCATION:Skatecafe Karin & Yvonne - Gedempt Hamerkanaal 42\, 1021 KM Amster
	dam
STATUS:CONFIRMED
CATEGORIES:live,concert,amsterdam-noord,hamerkwartier
END:VEVENT
BEGIN:VEVENT
UID:19336@offbeat.amsterdam
SUMMARY:LAST DANCE
DTSTAMP:20260420T050901Z
DTSTART:20260508T190000Z
DTEND:20260509T010000Z
URL:https://offbeat.amsterdam/event/last-dance
LOCATION:Skatecafe Karin & Yvonne - Gedempt Hamerkanaal 42\, 1021 KM Amster
	dam
STATUS:CONFIRMED
CATEGORIES:film,amsterdam-noord,dance,hamerkwartier
END:VEVENT
BEGIN:VEVENT
UID:18971@offbeat.amsterdam
SUMMARY:WAXFIEND 25 YEARS W/ ABSTRACT\, ADJE\, CHINNAMASTA\, CHUCKIE\, DOUL
	OU\, EDSON\, JAHWIN\, JARREAU VANDAL\, KALIBWOY\, MADBWOY\, MBA\, NOMTAH\,
	 PRIME\, PRINCE PASENSI\, RANCIDO\, ROCKEFELLABABE\, S!RENE\, SOR\, STEESK
	O\, WES LEE\, WIX\, 4SHOBANGERS
DTSTAMP:20260420T050901Z
DTSTART:20260509T200000Z
DTEND:20260510T010000Z
URL:https://offbeat.amsterdam/event/waxfiend-25-years
LOCATION:Skatecafe Karin & Yvonne - Gedempt Hamerkanaal 42\, 1021 KM Amster
	dam
STATUS:CONFIRMED
CATEGORIES:music,amsterdam-noord,dance,dj,electronics,hamerkwartier
END:VEVENT
BEGIN:VEVENT
UID:18332@offbeat.amsterdam
SUMMARY:TRUE STORY: CONSERVATORIUM VAN AMSTERDAM W/ THE SET\, JUNEBUG\, LOI
	S AVA & HYLA
DTSTAMP:20260420T050901Z
DTSTART:20260512T170000Z
DTEND:20260512T230000Z
URL:https://offbeat.amsterdam/event/true-story-conservatorium-van-amsterdam
	-w-the-set-junebug-lois-ava-and-hyla
LOCATION:Skatecafe Karin & Yvonne - Gedempt Hamerkanaal 42\, 1021 KM Amster
	dam
STATUS:CONFIRMED
CATEGORIES:party,hamerkwartier,stories,amsterdam-noord
END:VEVENT
BEGIN:VEVENT
UID:19674@offbeat.amsterdam
SUMMARY:HOWDY PANCAKE
DTSTAMP:20260420T050901Z
DTSTART:20260514T160000Z
DTEND:20260514T230000Z
URL:https://offbeat.amsterdam/event/howdy-pancake
LOCATION:Skatecafe Karin & Yvonne - Gedempt Hamerkanaal 42\, 1021 KM Amster
	dam
STATUS:CONFIRMED
CATEGORIES:dance,amsterdam-noord,music,hamerkwartier
END:VEVENT
BEGIN:VEVENT
UID:20344@offbeat.amsterdam
SUMMARY:SLIM RADIO W/ BOOGIE\, BRICK\, DJ PLATA NO\, DJKA LEVA\, DOULOU\, J
	ORDAN G\, MILAN MES\, POLLI PANDA\, PIA\, SÆNDO\, SHEPS\, SURPRISE ACTS\, 
	UGUR\, WILL WINDRIDGE\, XARLEE
DTSTAMP:20260420T050901Z
DTSTART:20260515T200000Z
DTEND:20260516T010000Z
URL:https://offbeat.amsterdam/event/slim-radio-2
LOCATION:Skatecafe Karin & Yvonne - Gedempt Hamerkanaal 42\, 1021 KM Amster
	dam
STATUS:CONFIRMED
CATEGORIES:jungle,amsterdam-noord,dj,dnb,hamerkwartier,hardcore,punk
END:VEVENT
BEGIN:VEVENT
UID:20826@offbeat.amsterdam
SUMMARY:KILLACUTZ W/ ANGELO D’ONORIO\, BORIS WERNER\, ESTRELLA\, HIDDEN ROO
	MS\, LEOLECTRO\, PH PROJECT\, SANDRIEN\, SECRET CINEMA & SWINGTIMETM
DTSTAMP:20260420T050901Z
DTSTART:20260516T200000Z
DTEND:20260517T010000Z
URL:https://offbeat.amsterdam/event/killacutz-w-angelo-donorio-boris-werner
	-estrella-hidden-rooms-leolectro-ph-project-sandrien-secret-cinema-and-swi
	ngtimetm
LOCATION:Skatecafe Karin & Yvonne - Gedempt Hamerkanaal 42\, 1021 KM Amster
	dam
STATUS:CONFIRMED
CATEGORIES:hamerkwartier,film,amsterdam-noord
END:VEVENT
BEGIN:VEVENT
UID:20418@offbeat.amsterdam
SUMMARY:ZEP - NO ENEMIES TOUR [SOLD OUT]
DTSTAMP:20260420T050901Z
DTSTART:20260521T170000Z
DTEND:20260521T230000Z
URL:https://offbeat.amsterdam/event/zep-no-enemies-tour
LOCATION:Skatecafe Karin & Yvonne - Gedempt Hamerkanaal 42\, 1021 KM Amster
	dam
STATUS:CONFIRMED
CATEGORIES:hamerkwartier,amsterdam-noord
END:VEVENT
BEGIN:VEVENT
UID:20117@offbeat.amsterdam
SUMMARY:AL-NAZARI W/ ANGEL D'LITE\, BERKAN V8\, FAIS LE BEAU\, LAZERGAZER\,
	 OG KARIN & ZOUZIBABE
DTSTAMP:20260420T050901Z
DTSTART:20260523T200000Z
DTEND:20260524T010000Z
URL:https://offbeat.amsterdam/event/al-nazari-w-angel-dlite-berkan-v8-fais-
	le-beau-lazergazer-og-karin-and-zouzibabe
LOCATION:Skatecafe Karin & Yvonne - Gedempt Hamerkanaal 42\, 1021 KM Amster
	dam
STATUS:CONFIRMED
CATEGORIES:amsterdam-noord,music,hamerkwartier
END:VEVENT
BEGIN:VEVENT
UID:20776@offbeat.amsterdam
SUMMARY:AMSTERDAM SYNTHESIZER SCHOOL W/ OTTO KOLLEKTIV\, PARKER FANS\, TADA
	Y!
DTSTAMP:20260420T050901Z
DTSTART:20260527T173000Z
DTEND:20260527T230000Z
URL:https://offbeat.amsterdam/event/amsterdam-synthesizer-school-w-otto-kol
	lektiv-parker-fans-taday
LOCATION:Skatecafe Karin & Yvonne - Gedempt Hamerkanaal 42\, 1021 KM Amster
	dam
STATUS:CONFIRMED
CATEGORIES:dance,live,hamerkwartier,amsterdam-noord
END:VEVENT
BEGIN:VEVENT
UID:15749@offbeat.amsterdam
SUMMARY:NAAZ (LIVE)
DTSTAMP:20260420T050901Z
DTSTART:20260528T170000Z
DTEND:20260528T230000Z
URL:https://offbeat.amsterdam/event/naaz-live
LOCATION:Skatecafe Karin & Yvonne - Gedempt Hamerkanaal 42\, 1021 KM Amster
	dam
STATUS:CONFIRMED
CATEGORIES:amsterdam-noord,music,live,hamerkwartier,books,refugees,orchestr
	a
END:VEVENT
BEGIN:VEVENT
UID:19337@offbeat.amsterdam
SUMMARY:PARDON W/ BAKEY (UK)\, BEVAN\, CHALÉ\, EYCEE\, IDILAY\, INSULINDE\,
	 ITZ3BBY\, LE KACANG\, MISA\, SANDOR DAYALA\, SPECIAL GUEST\, ZIGGY TWISS 
	& 1.06 LIBRARY
DTSTAMP:20260420T050901Z
DTSTART:20260529T200000Z
DTEND:20260530T010000Z
URL:https://offbeat.amsterdam/event/pardon-3
LOCATION:Skatecafe Karin & Yvonne - Gedempt Hamerkanaal 42\, 1021 KM Amster
	dam
STATUS:CONFIRMED
CATEGORIES:dance,hamerkwartier,amsterdam-noord,opening
END:VEVENT
BEGIN:VEVENT
UID:20679@offbeat.amsterdam
SUMMARY:STRIP FEST 2026 W/ AGP\, CHARLIE & LAURIE\, DJ LELE\, DROMEDA [LIVE
	]\, HONDENFOCKER [LIVE]\, KAREL [LIVE]\, KUTTECLUB\, TAPE TOY [LIVE]\, WIL
	LY PARTY
DTSTAMP:20260420T050901Z
DTSTART:20260530T180000Z
DTEND:20260531T010000Z
URL:https://offbeat.amsterdam/event/strip-fest-2026-w-agp-charlie-and-lauri
	e-dj-lele-dromeda-live-hondenfocker-live-karel-live-kutteclub-tape-toy-liv
	e-willy-party
LOCATION:Skatecafe Karin & Yvonne - Gedempt Hamerkanaal 42\, 1021 KM Amster
	dam
STATUS:CONFIRMED
CATEGORIES:music,party,live,hamerkwartier,festivals,dj,amsterdam-noord
END:VEVENT
BEGIN:VEVENT
UID:19332@offbeat.amsterdam
SUMMARY:CRITS!
DTSTAMP:20260420T050901Z
DTSTART:20260612T200000Z
DTEND:20260613T010000Z
URL:https://offbeat.amsterdam/event/crits
LOCATION:Skatecafe Karin & Yvonne - Gedempt Hamerkanaal 42\, 1021 KM Amster
	dam
STATUS:CONFIRMED
CATEGORIES:amsterdam-noord,hamerkwartier
END:VEVENT
BEGIN:VEVENT
UID:20195@offbeat.amsterdam
SUMMARY:KING SHILOH
DTSTAMP:20260420T050901Z
DTSTART:20260620T130000Z
DTEND:20260621T010000Z
URL:https://offbeat.amsterdam/event/king-shiloh
LOCATION:Skatecafe Karin & Yvonne - Gedempt Hamerkanaal 42\, 1021 KM Amster
	dam
STATUS:CONFIRMED
CATEGORIES:reggae,jungle,hamerkwartier,amsterdam-noord
END:VEVENT
BEGIN:VEVENT
UID:19335@offbeat.amsterdam
SUMMARY:HET VELD: THE SECOND TRANSMISSION
DTSTAMP:20260420T050901Z
DTSTART:20261002T200000Z
DTEND:20261003T010000Z
URL:https://offbeat.amsterdam/event/het-veld-the-second-transmission
LOCATION:Skatecafe Karin & Yvonne - Gedempt Hamerkanaal 42\, 1021 KM Amster
	dam
STATUS:CONFIRMED
CATEGORIES:music,amsterdam-noord,hamerkwartier
END:VEVENT
BEGIN:VEVENT
UID:19044@offbeat.amsterdam
SUMMARY:SONS (LIVE)
DTSTAMP:20260420T050901Z
DTSTART:20261106T180000Z
DTEND:20261106T210000Z
URL:https://offbeat.amsterdam/event/sons-live
LOCATION:Skatecafe Karin & Yvonne - Gedempt Hamerkanaal 42\, 1021 KM Amster
	dam
STATUS:CONFIRMED
CATEGORIES:amsterdam-noord,rock,hamerkwartier,garage rock,live
END:VEVENT
END:VCALENDAR
